BEGIN:VCALENDAR
VERSION:2.0
PRODID:-//ChamberMaster//Event Calendar 2.0//EN
METHOD:PUBLISH
X-PUBLISHED-TTL:P3D
REFRESH-INTERVAL:P3D
CALSCALE:GREGORIAN
BEGIN:VEVENT
DTSTART:20180706T013000Z
DTEND:20180706T040000Z
X-MICROSOFT-CDO-ALLDAYEVENT:FALSE
SUMMARY:GH South Neighborhood Council Meeting
DESCRIPTION:City of Los Angeles\n\nGranada Hills South Neighborhood Council
X-ALT-DESC;FMTTYPE=text/html:City of Los Angeles<br />\nGranada Hills South Neighborhood Council
LOCATION:Granada Hills Charter High School Rawley Hall 10535 Zelzah\, Granada Hills\, CA
UID:e.3286.354
SEQUENCE:3
DTSTAMP:20260422T113850Z
URL:https://members.granadachamber.com/events/details/gh-south-neighborhood-council-meeting-354
END:VEVENT

END:VCALENDAR
