BEGIN:VCALENDAR
VERSION:2.0
PRODID:-//ChamberMaster//Event Calendar 2.0//EN
METHOD:PUBLISH
X-PUBLISHED-TTL:P3D
REFRESH-INTERVAL:P3D
CALSCALE:GREGORIAN
BEGIN:VEVENT
DTSTART:20181110T170000Z
DTEND:20181110T200000Z
X-MICROSOFT-CDO-ALLDAYEVENT:FALSE
SUMMARY:Free Paper Shredding Event
DESCRIPTION:Free Paper Shredding Event\n\nBring as much as you Like
X-ALT-DESC;FMTTYPE=text/html:Free Paper Shredding Event<br />\n<em><strong>Bring as much as you Like</strong></em>
LOCATION:Parking Lot First Presbyterian Church of Granada Hills 10400 Zelzah Avenue\, Northridge\, CA 91326
UID:e.3286.2642
SEQUENCE:3
DTSTAMP:20260422T040826Z
URL:https://members.granadachamber.com/events/details/free-paper-shredding-event-2642
END:VEVENT

END:VCALENDAR
