BEGIN:VCALENDAR
VERSION:2.0
PRODID:-//ChamberMaster//Event Calendar 2.0//EN
METHOD:PUBLISH
X-PUBLISHED-TTL:P3D
REFRESH-INTERVAL:P3D
CALSCALE:GREGORIAN
BEGIN:VEVENT
DTSTART:20190614T160000Z
DTEND:20190614T190000Z
X-MICROSOFT-CDO-ALLDAYEVENT:FALSE
SUMMARY:FREE Grant Workshop
DESCRIPTION:Congressman Tony Cardenas\n\nGrant Workshop  (great workshop\, learn how write strategies and more)\n\nLearn how to access federal\, state and local funds to help your community!
X-ALT-DESC;FMTTYPE=text/html:Congressman Tony Cardenas<br />\nGrant Workshop&nbsp\; (great workshop\, learn how write strategies and more)<br />\nLearn how to access federal\, state and local funds to help your community!
LOCATION:Japanese Garden 6100 Woodley Ave Van Nuys\, CA 91406
UID:e.3286.5397
SEQUENCE:3
DTSTAMP:20260425T131541Z
URL:https://members.granadachamber.com/events/details/free-grant-workshop-5397
END:VEVENT

END:VCALENDAR
