BEGIN:VCALENDAR
VERSION:2.0
PRODID:-//ChamberMaster//Event Calendar 2.0//EN
METHOD:PUBLISH
X-PUBLISHED-TTL:P3D
REFRESH-INTERVAL:P3D
CALSCALE:GREGORIAN
BEGIN:VEVENT
DTSTART:20180520T200000Z
DTEND:20180521T000000Z
X-MICROSOFT-CDO-ALLDAYEVENT:FALSE
SUMMARY:Flavor of LA (Sunday Family Fun)
DESCRIPTION:Flavor of LA is the biggest event for Family.   Gourmet Food sampling from some of LA's best restaurants\, Craft Beer\, Wines Cocktails\n\nCar Show\, Featuring Cars From The Television Motion Pictures Car Club
X-ALT-DESC;FMTTYPE=text/html:Flavor of LA is the biggest event for Family.&nbsp\; &nbsp\;Gourmet Food sampling from some of LA&#39\;s best restaurants\, Craft Beer\, Wines Cocktails<br />\nCar Show\, Featuring Cars From The Television Motion Pictures Car Club
LOCATION:CBS Studio Center Back Lot Call (818)655-5916
UID:e.3286.1
SEQUENCE:3
DTSTAMP:20260422T150852Z
URL:https://members.granadachamber.com/events/details/flavor-of-la-sunday-family-fun-1
END:VEVENT

END:VCALENDAR
