BEGIN:VCALENDAR
VERSION:2.0
PRODID:-//ChamberMaster//Event Calendar 2.0//EN
METHOD:PUBLISH
X-PUBLISHED-TTL:P3D
REFRESH-INTERVAL:P3D
CALSCALE:GREGORIAN
BEGIN:VEVENT
DTSTART:20190330T180000Z
DTEND:20190330T220000Z
X-MICROSOFT-CDO-ALLDAYEVENT:FALSE
SUMMARY:Fashion Show at GHWC
DESCRIPTION:Fashion Show with Lunch!\n\nThe Theme is "BEE FASHIONALBE"\n\nPresented by:  R V Casuals
X-ALT-DESC;FMTTYPE=text/html:Fashion Show with Lunch!<br />\nThe Theme is &quot\;BEE FASHIONALBE&quot\;<br />\nPresented by:&nbsp\; R V Casuals
LOCATION:10666 White Oak Ave Granada Hills\, CA 91344
UID:e.3286.2689
SEQUENCE:3
DTSTAMP:20260421T230510Z
URL:https://members.granadachamber.com/events/details/fashion-show-at-ghwc-2689
END:VEVENT

END:VCALENDAR
