BEGIN:VCALENDAR
VERSION:2.0
PRODID:-//ChamberMaster//Event Calendar 2.0//EN
METHOD:PUBLISH
X-PUBLISHED-TTL:P3D
REFRESH-INTERVAL:P3D
CALSCALE:GREGORIAN
BEGIN:VEVENT
DTSTART:20180919T020000Z
DTEND:20180919T040000Z
X-MICROSOFT-CDO-ALLDAYEVENT:FALSE
SUMMARY:Emergency Preparedness Meeting
DESCRIPTION:City of Los Angeles\n\nEmergency Preparedness Meeting\n\nPublic Encouraged to Attend
X-ALT-DESC;FMTTYPE=text/html:City of Los Angeles<br />\nEmergency Preparedness Meeting<br />\nPublic Encouraged to Attend
LOCATION:11139 Woodley Avenue Granada Hills\, CA 91344
UID:e.3286.1589
SEQUENCE:3
DTSTAMP:20260422T074316Z
URL:https://members.granadachamber.com/events/details/emergency-preparedness-meeting-1589
END:VEVENT

END:VCALENDAR
