BEGIN:VCALENDAR
VERSION:2.0
PRODID:-//ChamberMaster//Event Calendar 2.0//EN
METHOD:PUBLISH
X-PUBLISHED-TTL:P3D
REFRESH-INTERVAL:P3D
CALSCALE:GREGORIAN
BEGIN:VEVENT
DTSTART:20180802T003000Z
DTEND:20180802T023000Z
X-MICROSOFT-CDO-ALLDAYEVENT:FALSE
SUMMARY:Don't Miss Out!!! VNA Mixer - Buffalo Wild Wings
DESCRIPTION:Valley Networking Alliance\n\n7 Chamber Mixer\n\nYour Fee includes (Appetizers & a Non-alcoholic Drink)
X-ALT-DESC;FMTTYPE=text/html:<strong>Valley Networking Alliance<br />\n<span style="font-size:14px\;">7 Chamber Mixer</span><br />\n<span style="color:#FF0000\;"><em><u>Your Fee includes (Appetizers &amp\; a Non-alcoholic Drink)&nbsp\;</u></em></span></strong>
LOCATION:Buffalo Wild Wings 9301 Tampa Aven Northridge\, CA 91324
UID:e.3286.510
SEQUENCE:3
DTSTAMP:20260422T094138Z
URL:https://members.granadachamber.com/events/details/don-t-miss-out-vna-mixer-buffalo-wild-wings-510
END:VEVENT

END:VCALENDAR
