BEGIN:VCALENDAR
VERSION:2.0
PRODID:-//ChamberMaster//Event Calendar 2.0//EN
METHOD:PUBLISH
X-PUBLISHED-TTL:P3D
REFRESH-INTERVAL:P3D
CALSCALE:GREGORIAN
BEGIN:VEVENT
DTSTART:20181101T233000Z
DTEND:20181102T010000Z
X-MICROSOFT-CDO-ALLDAYEVENT:FALSE
SUMMARY:CSUN - ATYPICAL VIEWING PARTY AND PANEL 11/1/2018
DESCRIPTION:CSUN will be showing an episode of the Netflix show\, Atypical followed by a panel to discuss inclusion on campus and promote autism awareness.
X-ALT-DESC;FMTTYPE=text/html:&nbsp\; &nbsp\; CSUN&nbsp\;<span style="font-size: 11pt\; font-family: Calibri\, sans-serif\;">will be showing an episode of the Netflix show\, Atypical followed by a panel to discuss inclusion on campus and promote autism awareness.&nbsp\;</span>
LOCATION:University Student Union in the the Thousand Oaks Room at CSUN California State University Northridge 18111 Nordhoff Street Northridge\, CA 91330
UID:e.3286.1838
SEQUENCE:3
DTSTAMP:20260422T061642Z
URL:https://members.granadachamber.com/events/details/csun-atypical-viewing-party-and-panel-11-1-2018-1838
END:VEVENT

END:VCALENDAR
