BEGIN:VCALENDAR
VERSION:2.0
PRODID:-//ChamberMaster//Event Calendar 2.0//EN
METHOD:PUBLISH
X-PUBLISHED-TTL:P3D
REFRESH-INTERVAL:P3D
CALSCALE:GREGORIAN
BEGIN:VEVENT
DTSTART:20181108T194500Z
DTEND:20181108T220000Z
X-MICROSOFT-CDO-ALLDAYEVENT:FALSE
SUMMARY:Courageous Citizens Awards Luncheon
DESCRIPTION:The Kiwanis Club of Northridge is Hosting\n\nThe Los Angeles County District Attorney's\n\nCourageous Citizens Awards Luncheon
X-ALT-DESC;FMTTYPE=text/html:The Kiwanis Club of Northridge is Hosting<br />\nThe Los Angeles County District Attorney&#39\;s<br />\n<u><em><strong>Courageous Citizens Awards Luncheon</strong></em></u><br />\n&nbsp\;
LOCATION:The Odyssey Restaurant Apollo Room 15600 Odyssey Drive\, Granada Hills\, CA 91344
UID:e.3286.1832
SEQUENCE:3
DTSTAMP:20260422T041344Z
URL:https://members.granadachamber.com/events/details/courageous-citizens-awards-luncheon-1832
END:VEVENT

END:VCALENDAR
