BEGIN:VCALENDAR
VERSION:2.0
PRODID:-//ChamberMaster//Event Calendar 2.0//EN
METHOD:PUBLISH
X-PUBLISHED-TTL:P3D
REFRESH-INTERVAL:P3D
CALSCALE:GREGORIAN
BEGIN:VEVENT
DTSTART:20180723T183000Z
DTEND:20180723T200000Z
X-MICROSOFT-CDO-ALLDAYEVENT:FALSE
SUMMARY:Chatsworth Granada Chamber Joint Luncheon
DESCRIPTION:Chatsworth Porter Ranch Chamber & Granada Hills Chamber \n\nNetworking Luncheon
X-ALT-DESC;FMTTYPE=text/html:Chatsworth Porter Ranch Chamber &amp\; Granada Hills Chamber&nbsp\;<br />\nNetworking Luncheon
LOCATION:Rosie's BBQ 8930 Corbin Avenue Northridge\, CA 91324
UID:e.3286.509
SEQUENCE:3
DTSTAMP:20260422T113322Z
URL:https://members.granadachamber.com/events/details/chatsworth-granada-chamber-joint-luncheon-509
END:VEVENT

END:VCALENDAR
