BEGIN:VCALENDAR
VERSION:2.0
PRODID:-//ChamberMaster//Event Calendar 2.0//EN
METHOD:PUBLISH
X-PUBLISHED-TTL:P3D
REFRESH-INTERVAL:P3D
CALSCALE:GREGORIAN
BEGIN:VEVENT
DTSTART:20180831T010000Z
DTEND:20180831T023000Z
X-MICROSOFT-CDO-ALLDAYEVENT:FALSE
SUMMARY:Aegis Living - Free Seminar
DESCRIPTION:Aegis Living Presents\n\nAsk The Experts Free Seminar\n\nPresented by Kathy Stewart\, R.N.\, B.S.N.
X-ALT-DESC;FMTTYPE=text/html:Aegis Living Presents<br />\nAsk The Experts Free Seminar<br />\nPresented by Kathy Stewart\, R.N.\, B.S.N.
LOCATION:Aegis Living of Granada Hills 10801 Lindley Avenue Granada Hills\, CA 91344
UID:e.3286.1403
SEQUENCE:3
DTSTAMP:20260422T093350Z
URL:https://members.granadachamber.com/events/details/aegis-living-free-seminar-1403
END:VEVENT

END:VCALENDAR
