BEGIN:VCALENDAR
VERSION:2.0
PRODID:-//ChamberMaster//Event Calendar 2.0//EN
METHOD:PUBLISH
X-PUBLISHED-TTL:P3D
REFRESH-INTERVAL:P3D
CALSCALE:GREGORIAN
BEGIN:VEVENT
DTSTART:20190109T013000Z
DTEND:20190109T030000Z
X-MICROSOFT-CDO-ALLDAYEVENT:FALSE
SUMMARY:Aegis Living Event - Alzheimer's
DESCRIPTION:Aegis Living is offering a great workshop\n\nHealthy Living for Your Brain and Body
X-ALT-DESC;FMTTYPE=text/html:Aegis Living is offering a great workshop<br />\nHealthy Living for Your Brain and Body
LOCATION:Aegis of Granada Hills 10801 Lindley Ave Granada Hills\, CA 91344
UID:e.3286.2654
SEQUENCE:3
DTSTAMP:20260422T004020Z
URL:https://members.granadachamber.com/events/details/aegis-living-event-alzheimer-s-2654
END:VEVENT

END:VCALENDAR
