BEGIN:VCALENDAR
VERSION:2.0
PRODID:-//ChamberMaster//Event Calendar 2.0//EN
METHOD:PUBLISH
X-PUBLISHED-TTL:P3D
REFRESH-INTERVAL:P3D
CALSCALE:GREGORIAN
BEGIN:VEVENT
DTSTART:20181102T003000Z
DTEND:20181102T023000Z
X-MICROSOFT-CDO-ALLDAYEVENT:FALSE
SUMMARY:7-Chamber Mixer - November 1st @5:30pm
DESCRIPTION:Your Are Invited to our VNA Mixer\n\n7-Chamber Networking\n\n$15/Member                 $20/Future Members\n\n                   (Includes:  Roller Skating with Skate rental\, appetizers\, and soft drinks).\n\nYou are also welcome to bring your own skates.
X-ALT-DESC;FMTTYPE=text/html:<span style="font-size:16px\;"><strong>Your Are Invited to our VNA Mixer<br />\n7-Chamber Networking<br />\n$15/Member&nbsp\; &nbsp\; &nbsp\; &nbsp\; &nbsp\; &nbsp\; &nbsp\; &nbsp\; &nbsp\;$20/Future Members</strong></span><br />\n&nbsp\; &nbsp\; &nbsp\; &nbsp\; &nbsp\; &nbsp\; &nbsp\; &nbsp\; &nbsp\; &nbsp\;<strong><u><span style="color:#FF0000\;">(Includes:&nbsp\; Roller Skating with Skate rental\, appetizers\, and soft drinks).<br />\nYou are also welcome to bring your own skates.</span></u></strong>
LOCATION:Hosted By: Skateland 18140 Parthenia Street Northridge\, CA 91325
UID:e.3286.1837
SEQUENCE:3
DTSTAMP:20260422T042308Z
URL:https://members.granadachamber.com/events/details/7-chamber-mixer-november-1st-5-30pm-1837
END:VEVENT

END:VCALENDAR
