BEGIN:VCALENDAR
VERSION:2.0
PRODID:-//ChamberMaster//Event Calendar 2.0//EN
METHOD:PUBLISH
X-PUBLISHED-TTL:P3D
REFRESH-INTERVAL:P3D
CALSCALE:GREGORIAN
BEGIN:VEVENT
DTSTART:20251207T213000Z
DTEND:20251208T003000Z
X-MICROSOFT-CDO-ALLDAYEVENT:FALSE
SUMMARY:42nd Annual Granada Hills Holiday Parade
DESCRIPTION:42nd Annual Granada Hills Holiday Parade\n\n2025 Theme: Holidays of the Roaring Twenties\n\nhttps://www.granadahillsholidayparade.org/
X-ALT-DESC;FMTTYPE=text/html:42nd Annual Granada Hills Holiday Parade<br />\n2025 Theme: <b><i>Holidays of the Roaring Twenties</i></b><br />\nhttps://www.granadahillsholidayparade.org/&nbsp\;
LOCATION:Chatsworth Granada Hills\, CA 91344
UID:e.3286.5730
SEQUENCE:3
DTSTAMP:20260423T163514Z
URL:https://members.granadachamber.com/events/details/42nd-annual-granada-hills-holiday-parade-5730
END:VEVENT

END:VCALENDAR
