BEGIN:VCALENDAR
VERSION:2.0
PRODID:-//ChamberMaster//Event Calendar 2.0//EN
METHOD:PUBLISH
X-PUBLISHED-TTL:P3D
REFRESH-INTERVAL:P3D
CALSCALE:GREGORIAN
BEGIN:VEVENT
DTSTART:20181112T193000Z
DTEND:20181112T210000Z
X-MICROSOFT-CDO-ALLDAYEVENT:FALSE
SUMMARY:3-Chamber Luncheon - November 12th
DESCRIPTION:Multi-Chamber Luncheon Mixer\n\nJoin us for 3-Chamber Luncheon Mixer\n\nGreat Networking and Raffle Ticket Prizes!\n\nGifts for our Raffle Tickets are welcome!
X-ALT-DESC;FMTTYPE=text/html:Multi-Chamber Luncheon Mixer<br />\nJoin us for 3-Chamber Luncheon Mixer<br />\nGreat Networking and Raffle Ticket Prizes!<br />\n<em><strong><u>Gifts for our Raffle Tickets are welcome!</u></strong></em>
LOCATION:Rosie's BBQ & Grillery 8930 Corbin Ave Northridge\, CA 91324
UID:e.3286.2640
SEQUENCE:3
DTSTAMP:20260422T042131Z
URL:https://members.granadachamber.com/events/details/3-chamber-luncheon-november-12th-2640
END:VEVENT

END:VCALENDAR
