BEGIN:VCALENDAR
VERSION:2.0
PRODID:-//ChamberMaster//Event Calendar 2.0//EN
METHOD:PUBLISH
X-PUBLISHED-TTL:P3D
REFRESH-INTERVAL:P3D
CALSCALE:GREGORIAN
BEGIN:VEVENT
DTSTART:20251018T170000Z
DTEND:20251019T000000Z
X-MICROSOFT-CDO-ALLDAYEVENT:FALSE
SUMMARY:2025 Granada Hills Custom & Classics Car Show
DESCRIPTION:SOLD OUT\n\n21st Annual 2025 Granada Hills Street Faire - Custom & Classics Car Show\n\n\n\nCar show at the largest street fair in the valley! All Cars are welcome!  \n\n\n\nPut information on your car in the Registration Comments before checkout\n\n\n\nGranada Hills Rotary Oktoberfest\n\nhttps://granadahillsrotary.org/page/oktoberfest
X-ALT-DESC;FMTTYPE=text/html:<strong><span style="font-size:26px\;">SOLD OUT</span><br />\n21st Annual 2025 Granada Hills Street Faire - Custom &amp\; Classics Car Show</strong><br />\n<br />\nCar show at the largest street fair in the valley!&nbsp\;All Cars are welcome!&nbsp\;&nbsp\;<br />\n<br />\n<strong><span style="font-size:24px\;">Put information on your car in the Registration Comments before checkout</span></strong><br />\n<br />\nGranada Hills Rotary Oktoberfest<br />\nhttps://granadahillsrotary.org/page/oktoberfest
LOCATION:Granada Hills 17723 Chatsworth Street\, Granada Hills\, CA 91344 Chatsworth Street Closure will be Zelzah Ave to Encino Ave
UID:e.3286.5720
SEQUENCE:3
DTSTAMP:20260423T234017Z
URL:https://members.granadachamber.com/events/details/2025-granada-hills-custom-classics-car-show-5720
END:VEVENT

END:VCALENDAR
